BEGIN:VCALENDAR
VERSION:2.0
PRODID:-//Abortion Rights Campaign Ireland - ECPv4.6.2//NONSGML v1.0//EN
CALSCALE:GREGORIAN
METHOD:PUBLISH
X-WR-CALNAME:Abortion Rights Campaign Ireland
X-ORIGINAL-URL:https://www.abortionrightscampaign.ie
X-WR-CALDESC:Events for Abortion Rights Campaign Ireland
BEGIN:VEVENT
DTSTART;TZID=Europe/Dublin:20170913T190000
DTEND;TZID=Europe/Dublin:20170913T210000
DTSTAMP:20171101T005822
CREATED:20170823T143923Z
LAST-MODIFIED:20170823T143923Z
UID:4187-1505329200-1505336400@www.abortionrightscampaign.ie
SUMMARY:Voices for Choice Weekly Rehearsal
DESCRIPTION:Voices for Choice\, the flash choir reworking pop songs with pro-choice lyrics\, hold choir rehearsals every Wednesday from 7pm upstairs in Chaplins on Hawkins St. Dublin. Open to everyone and every ability! \nhttp://www.voices4choice.com/ \n
URL:https://www.abortionrightscampaign.ie/event/voices-for-choice-weekly-rehearsal-10/
LOCATION:Chaplin's Bar\, Hawkins Street\, Dublin
CATEGORIES:Meet up,Performance
ATTACH;FMTTYPE=image/jpeg:https://www.abortionrightscampaign.ie/wp-content/uploads/2017/07/V4C-poster_event.jpg
END:VEVENT
END:VCALENDAR