BEGIN:VCALENDAR
VERSION:2.0
PRODID:-//Abortion Rights Campaign Ireland - ECPv4.6.2//NONSGML v1.0//EN
CALSCALE:GREGORIAN
METHOD:PUBLISH
X-WR-CALNAME:Abortion Rights Campaign Ireland
X-ORIGINAL-URL:https://www.abortionrightscampaign.ie
X-WR-CALDESC:Events for Abortion Rights Campaign Ireland
BEGIN:VEVENT
DTSTART;VALUE=DATE:20170916
DTEND;VALUE=DATE:20170917
DTSTAMP:20171101T005647
CREATED:20170908T142358Z
LAST-MODIFIED:20170914T160816Z
UID:4315-1505520000-1505606399@www.abortionrightscampaign.ie
SUMMARY:Voices for Choice at Sounds from a Safe Harbour
DESCRIPTION:Voices for Choice will be performing as part of the Music Trail in the Sounds from a Safe Harbour festival in Cork on 16 September\, sharing a line-up with Bon Iver\, The National\, Lisa Hannigan among others. \nV4C will be doing a 30minute slot as part of the Free Music Trail on Saturday at 6.30pm in the River Lee Hotel! The Music Trail is where people follow a timetable/schedule and go to different venues to check bands out! Full programme of events at www.soundsfromasafeharbour.com \nVoices for Choice on tour!!  \n
URL:https://www.abortionrightscampaign.ie/event/voices-for-choice-at-sounds-from-a-safe-harbour/
CATEGORIES:Performance
ATTACH;FMTTYPE=image/png:https://www.abortionrightscampaign.ie/wp-content/uploads/2017/09/v4c_soundsharbour.png
END:VEVENT
END:VCALENDAR