BEGIN:VCALENDAR
VERSION:2.0
PRODID:-//Abortion Rights Campaign Ireland - ECPv4.6.2//NONSGML v1.0//EN
CALSCALE:GREGORIAN
METHOD:PUBLISH
X-WR-CALNAME:Abortion Rights Campaign Ireland
X-ORIGINAL-URL:https://www.abortionrightscampaign.ie
X-WR-CALDESC:Events for Abortion Rights Campaign Ireland
BEGIN:VEVENT
DTSTART;TZID=Europe/Dublin:20170918T190000
DTEND;TZID=Europe/Dublin:20170918T210000
DTSTAMP:20171101T014805
CREATED:20170905T144952Z
LAST-MODIFIED:20170905T144952Z
UID:4285-1505761200-1505768400@www.abortionrightscampaign.ie
SUMMARY:Dublin Open Meeting
DESCRIPTION:PLACARD MAKING SESSION!!!! \nCome along and make some placards for the March for Choice. We’ll provide materials\, just bring friends and ideas! \nWe encourage you to come along to find out more about our Campaign and see how you might want to get stuck in. No commitment necessary. \n
URL:https://www.abortionrightscampaign.ie/event/dublin-open-meeting/
LOCATION:Ireland
CATEGORIES:Meet up,Workshop
ATTACH;FMTTYPE=image/jpeg:https://www.abortionrightscampaign.ie/wp-content/uploads/2017/06/Dublin-Open-Meeting-Image-e1504622883219.jpg
END:VEVENT
END:VCALENDAR