BEGIN:VCALENDAR
VERSION:2.0
PRODID:-//Abortion Rights Campaign Ireland - ECPv4.6.2//NONSGML v1.0//EN
CALSCALE:GREGORIAN
METHOD:PUBLISH
X-WR-CALNAME:Abortion Rights Campaign Ireland
X-ORIGINAL-URL:https://www.abortionrightscampaign.ie
X-WR-CALDESC:Events for Abortion Rights Campaign Ireland
BEGIN:VEVENT
DTSTART;TZID=Europe/Dublin:20170821T190000
DTEND;TZID=Europe/Dublin:20170821T210000
DTSTAMP:20171101T010200
CREATED:20170802T105625Z
LAST-MODIFIED:20170802T105625Z
UID:4140-1503342000-1503349200@www.abortionrightscampaign.ie
SUMMARY:August Dublin Open Meeting
DESCRIPTION:Want to get involved in the Abortion Rights Campaign? Our monthly meetings provide an easy entry point for people who want to get more involved. \nWe encourage you to come along to find out more about our Campaign and see how you might want to get stuck in. No commitment necessary. \nThis month we’ll be talking about plans for the March for Choice on 30 September and how you can help! \n
URL:https://www.abortionrightscampaign.ie/event/august-dublin-open-meeting-2/
LOCATION:105 Capel Street\, Dublin \, Leinster\, Dublin 1\, Ireland
CATEGORIES:Activism,Meet up
ATTACH;FMTTYPE=image/jpeg:https://www.abortionrightscampaign.ie/wp-content/uploads/2017/06/Dublin-Open-Meeting-Image_small.jpg
END:VEVENT
END:VCALENDAR