BEGIN:VCALENDAR
VERSION:2.0
PRODID:-//Abortion Rights Campaign Ireland - ECPv4.6.2//NONSGML v1.0//EN
CALSCALE:GREGORIAN
METHOD:PUBLISH
X-WR-CALNAME:Abortion Rights Campaign Ireland
X-ORIGINAL-URL:https://www.abortionrightscampaign.ie
X-WR-CALDESC:Events for Abortion Rights Campaign Ireland
BEGIN:VEVENT
DTSTART;TZID=Europe/Dublin:20170913T190000
DTEND;TZID=Europe/Dublin:20170913T210000
DTSTAMP:20171101T015253
CREATED:20170901T173137Z
LAST-MODIFIED:20170901T173137Z
UID:4247-1505329200-1505336400@www.abortionrightscampaign.ie
SUMMARY:ARC Clare Meeting + Banner Making
DESCRIPTION:Abortion Rights Clare’s next meeting will be held in Shannon\, venue to be confirmed. As part of the meeting\, we will be making banners for the March for Choice. All pro-choice people welcome. Find out more at the event Facebook page. \n
URL:https://www.abortionrightscampaign.ie/event/arc-clare-meeting-banner-making/
CATEGORIES:Activism,Meet up,Workshop
ATTACH;FMTTYPE=image/jpeg:https://www.abortionrightscampaign.ie/wp-content/uploads/2017/09/arc-clare-logo-e1504286882535.jpg
END:VEVENT
END:VCALENDAR