BEGIN:VCALENDAR
VERSION:2.0
PRODID:-//Abortion Rights Campaign Ireland - ECPv4.6.2//NONSGML v1.0//EN
CALSCALE:GREGORIAN
METHOD:PUBLISH
X-WR-CALNAME:Abortion Rights Campaign Ireland
X-ORIGINAL-URL:https://www.abortionrightscampaign.ie
X-WR-CALDESC:Events for Abortion Rights Campaign Ireland
BEGIN:VEVENT
DTSTART;TZID=Europe/Dublin:20170916T100000
DTEND;TZID=Europe/Dublin:20170916T130000
DTSTAMP:20171101T015202
CREATED:20170907T160710Z
LAST-MODIFIED:20170907T160710Z
UID:4304-1505556000-1505566800@www.abortionrightscampaign.ie
SUMMARY:Advocacy Training with Wicklow Pro Choice and ARC
DESCRIPTION:Wicklow Pro-Choice in partnership with the Abortion Rights Campaign is hosting an advocacy training & strategy session on the morning of Saturday\, September 16th in Bray\, Wicklow.  \nThe training is focused on supporting participants in: \n– Gaining an overview of the political system in Ireland \n– Building the skills and confidence to be able to develop a relationship with elected representatives\n– Having effective conversations with decision makers about why choice and bodily autonomy must be at the centre of any future post-repeal framework for access to abortion \nAll knowledge levels are welcome. If you’re not from the constituency of Wicklow\, but still interested\, please come along anyway! \n****Please RSVP to wicklowforchoice@gmail.com**** \nIf you want to attend but travel expenses are a barrier\, please let us know and we’ll try and work something out.  \nPlease go ahead and share with anyone you think might be interested.  \nHope to see you there! \n
URL:https://www.abortionrightscampaign.ie/event/advocacy-training-with-wicklow-pro-choice-and-arc/
CATEGORIES:Seminar,Workshop
ATTACH;FMTTYPE=image/jpeg:https://www.abortionrightscampaign.ie/wp-content/uploads/2017/09/wicklow-advocacy-training-e1504800293650.jpg
END:VEVENT
END:VCALENDAR