BEGIN:VCALENDAR
VERSION:2.0
PRODID:-//Abortion Rights Campaign Ireland - ECPv4.6.2//NONSGML v1.0//EN
CALSCALE:GREGORIAN
METHOD:PUBLISH
X-WR-CALNAME:Abortion Rights Campaign Ireland
X-ORIGINAL-URL:https://www.abortionrightscampaign.ie
X-WR-CALDESC:Events for Abortion Rights Campaign Ireland
BEGIN:VEVENT
DTSTART;TZID=Europe/Dublin:20170819T170000
DTEND;TZID=Europe/Dublin:20170819T170000
DTSTAMP:20171101T005431
CREATED:20170703T153218Z
LAST-MODIFIED:20170801T111229Z
UID:3990-1503162000-1503162000@www.abortionrightscampaign.ie
SUMMARY:Abortion Rights Roadshow Kilkenny - Vinyl Valkyries
DESCRIPTION: \nAbortion Rights Roadshow Kilkenny – Vinyl Valkyries hosted by Kilkenny for Choice \nBrewery Corner\, Kilkenny \nMore details TBA \n
URL:https://www.abortionrightscampaign.ie/event/abortion-rights-roadshow-kilkenny-for-choice-event/
CATEGORIES:Abortion Rights Roadshow,Activism,Stall
ATTACH;FMTTYPE=image/jpeg:https://www.abortionrightscampaign.ie/wp-content/uploads/2017/07/arc-roadshow-kk-2.jpg
END:VEVENT
END:VCALENDAR