BEGIN:VCALENDAR
VERSION:2.0
PRODID:-//Abortion Rights Campaign Ireland - ECPv4.6.2//NONSGML v1.0//EN
CALSCALE:GREGORIAN
METHOD:PUBLISH
X-WR-CALNAME:Abortion Rights Campaign Ireland
X-ORIGINAL-URL:https://www.abortionrightscampaign.ie
X-WR-CALDESC:Events for Abortion Rights Campaign Ireland
BEGIN:VEVENT
DTSTART;TZID=Europe/Dublin:20170714T100000
DTEND;TZID=Europe/Dublin:20170714T120000
DTSTAMP:20171101T011346
CREATED:20170628T160251Z
LAST-MODIFIED:20170628T160251Z
UID:3938-1500026400-1500033600@www.abortionrightscampaign.ie
SUMMARY:Abortion Rights Roadshow: ARC Tipperary Street Stall
DESCRIPTION:Tipp for Choice Street Stall\, Tipperary \nFor more information contact Tipperary for Choice: tippforchoice@gmail.com \n
URL:https://www.abortionrightscampaign.ie/event/abortion-rights-roadshow-arc-tipperary-street-stall/
CATEGORIES:Abortion Rights Roadshow,Activism,Stall
ATTACH;FMTTYPE=image/jpeg:https://www.abortionrightscampaign.ie/wp-content/uploads/2017/06/arc-tipp_small.jpg
END:VEVENT
END:VCALENDAR