BEGIN:VCALENDAR
VERSION:2.0
PRODID:-//Abortion Rights Campaign Ireland - ECPv4.6.2//NONSGML v1.0//EN
CALSCALE:GREGORIAN
METHOD:PUBLISH
X-WR-CALNAME:Abortion Rights Campaign Ireland
X-ORIGINAL-URL:https://www.abortionrightscampaign.ie
X-WR-CALDESC:Events for Abortion Rights Campaign Ireland
BEGIN:VEVENT
DTSTART;TZID=Europe/Dublin:20171025T190000
DTEND;TZID=Europe/Dublin:20171025T210000
DTSTAMP:20171101T013507
CREATED:20171006T111939Z
LAST-MODIFIED:20171006T111939Z
UID:4552-1508958000-1508965200@www.abortionrightscampaign.ie
SUMMARY:Voices for Choice Weekly Rehearsal
DESCRIPTION:Voices for Choice\, the flash choir reworking pop songs with pro-choice lyrics\, hold choir rehearsals every Wednesday – Open to everyone and every ability! \nAfter a post-March for Choice break\, Voices for Choice are back in a new location – upstairs in Jack Nealon’s pub\, Capel Street \n  \n
URL:https://www.abortionrightscampaign.ie/event/voices-for-choice-weekly-rehearsal-13/
LOCATION:165 Capel St\, Dublin\, Ireland
CATEGORIES:Meet up,Performance
ATTACH;FMTTYPE=image/jpeg:https://www.abortionrightscampaign.ie/wp-content/uploads/2017/10/voices-for-choice-2-e1507288604471.jpg
END:VEVENT
END:VCALENDAR