BEGIN:VCALENDAR
VERSION:2.0
PRODID:-//Abortion Rights Campaign Ireland - ECPv4.6.2//NONSGML v1.0//EN
CALSCALE:GREGORIAN
METHOD:PUBLISH
X-WR-CALNAME:Abortion Rights Campaign Ireland
X-ORIGINAL-URL:https://www.abortionrightscampaign.ie
X-WR-CALDESC:Events for Abortion Rights Campaign Ireland
BEGIN:VEVENT
DTSTART;VALUE=DATE:20171014
DTEND;VALUE=DATE:20171015
DTSTAMP:20171101T013121
CREATED:20171006T105048Z
LAST-MODIFIED:20171006T105048Z
UID:4526-1507939200-1508025599@www.abortionrightscampaign.ie
SUMMARY:Rally for Choice Belfast
DESCRIPTION:Belfast’s second Rally for Choice will take place on Saturday the 14th of October assembling at Buoy Park at 2pm before taking off for a march through the city centre to demand abortion rights. \nARC will be joining the Rally for Choice in solidarity with our comrades in Northern Ireland. A bus is being organised in conjunction with the Workers Solidarity Movement – details here. \n
URL:https://www.abortionrightscampaign.ie/event/rally-for-choice-belfast/
LOCATION:Buoy Park\, Belfast\, United Kingdom
CATEGORIES:Activism
ATTACH;FMTTYPE=image/jpeg:https://www.abortionrightscampaign.ie/wp-content/uploads/2017/10/rallyforchoice.jpg
END:VEVENT
END:VCALENDAR